BEGIN:VCALENDAR
VERSION:2.0
PRODID:-//HAKKAME SANTIMA - ECPv6.15.20//NONSGML v1.0//EN
CALSCALE:GREGORIAN
METHOD:PUBLISH
X-WR-CALNAME:HAKKAME SANTIMA
X-ORIGINAL-URL:https://hakkamesantima.ee
X-WR-CALDESC:Events for HAKKAME SANTIMA
REFRESH-INTERVAL;VALUE=DURATION:PT1H
X-Robots-Tag:noindex
X-PUBLISHED-TTL:PT1H
BEGIN:VTIMEZONE
TZID:Europe/Tallinn
BEGIN:DAYLIGHT
TZOFFSETFROM:+0200
TZOFFSETTO:+0300
TZNAME:EEST
DTSTART:20230326T010000
END:DAYLIGHT
BEGIN:STANDARD
TZOFFSETFROM:+0300
TZOFFSETTO:+0200
TZNAME:EET
DTSTART:20231029T010000
END:STANDARD
BEGIN:DAYLIGHT
TZOFFSETFROM:+0200
TZOFFSETTO:+0300
TZNAME:EEST
DTSTART:20240331T010000
END:DAYLIGHT
BEGIN:STANDARD
TZOFFSETFROM:+0300
TZOFFSETTO:+0200
TZNAME:EET
DTSTART:20241027T010000
END:STANDARD
BEGIN:DAYLIGHT
TZOFFSETFROM:+0200
TZOFFSETTO:+0300
TZNAME:EEST
DTSTART:20250330T010000
END:DAYLIGHT
BEGIN:STANDARD
TZOFFSETFROM:+0300
TZOFFSETTO:+0200
TZNAME:EET
DTSTART:20251026T010000
END:STANDARD
BEGIN:DAYLIGHT
TZOFFSETFROM:+0200
TZOFFSETTO:+0300
TZNAME:EEST
DTSTART:20260329T010000
END:DAYLIGHT
BEGIN:STANDARD
TZOFFSETFROM:+0300
TZOFFSETTO:+0200
TZNAME:EET
DTSTART:20261025T010000
END:STANDARD
END:VTIMEZONE
BEGIN:VEVENT
DTSTART;TZID=Europe/Tallinn:20241125T160000
DTEND;TZID=Europe/Tallinn:20241125T183000
DTSTAMP:20260420T162547
CREATED:20241113T095531Z
LAST-MODIFIED:20241113T095531Z
UID:8033-1732550400-1732559400@hakkamesantima.ee
SUMMARY:Kadripäeva lõuna
DESCRIPTION:Hea Puka eakas!\nOotame Sind traditsioonilisele Kadripäeva lõunale 25.novembril kell 16.00.Lõuna toimub Puka Kultuurimaja suures saalis. Sind on ootamas praad\, magustoit ja kohv.\n\nÜhisele peolauale võta kaasa enda valmistatud meeldiv amps ja maiuspalasi kadrisantidele\, keda on külla oodata.\n\nPuka näitering KUNKSMOORID esitab lühinäidendi “Naised saunas”. Ja lisaks on tulemas üllatusi.\n\nValge riietus ja maskeerumine ei ole kohustuslik\, kuid igati teretulnud!\nOsalemine on tasuta. Sündmus on kutsetega. Kutse saamiseks anna oma osalemissoovist teada tel: 555 33 564 Katrin Uffert
URL:https://hakkamesantima.ee/event/kadripaeva-louna/
LOCATION:Puka kultuurimaja\, Kesk 47\, Puka\, Estonia
CATEGORIES:Valga maakond
ATTACH;FMTTYPE=image/jpeg:https://hakkamesantima.ee/wp-content/uploads/2024/11/puka.jpg
END:VEVENT
BEGIN:VEVENT
DTSTART;TZID=Europe/Tallinn:20251108T173000
DTEND;TZID=Europe/Tallinn:20251108T173000
DTSTAMP:20260420T162547
CREATED:20251104T081808Z
LAST-MODIFIED:20251104T081902Z
UID:8338-1762623000-1762623000@hakkamesantima.ee
SUMMARY:Mardipäeva tähistamine
DESCRIPTION:Töötoas tutvume mardipäeva kommetega\,laulame traditsioonilisi mardilaule ja uurime\, kes need mardisandid õigupoolest on. Meisterdame ise ka mardimaski. \nTöötuba viib läbi Kelly. \nKui teadmised omandatud lähme kõik koos järgminepäev 9.11 kell 18 Marti jooksma. Saame kokku Rahvamaja ees. \nKüsimuste korral võta ühendust Maariga.Üritus on Tasuta
URL:https://hakkamesantima.ee/event/mardipaeva-tahistamine-3/
LOCATION:Tsirguliina rahvamaja\, Tehase tn 2\, Tsirguliina
CATEGORIES:Valga maakond
ATTACH;FMTTYPE=image/jpeg:https://hakkamesantima.ee/wp-content/uploads/2025/11/576910025_804610635662707_5270992723602529164_n.jpg
ORGANIZER;CN="Tsirguliina Rahvamaja":MAILTO:maari@valgakultuurikeskus.ee
END:VEVENT
END:VCALENDAR