BEGIN:VCALENDAR
VERSION:2.0
PRODID:-//HAKKAME SANTIMA - ECPv6.15.20//NONSGML v1.0//EN
CALSCALE:GREGORIAN
METHOD:PUBLISH
X-WR-CALNAME:HAKKAME SANTIMA
X-ORIGINAL-URL:https://hakkamesantima.ee
X-WR-CALDESC:Events for HAKKAME SANTIMA
REFRESH-INTERVAL;VALUE=DURATION:PT1H
X-Robots-Tag:noindex
X-PUBLISHED-TTL:PT1H
BEGIN:VTIMEZONE
TZID:Europe/Tallinn
BEGIN:DAYLIGHT
TZOFFSETFROM:+0200
TZOFFSETTO:+0300
TZNAME:EEST
DTSTART:20240331T010000
END:DAYLIGHT
BEGIN:STANDARD
TZOFFSETFROM:+0300
TZOFFSETTO:+0200
TZNAME:EET
DTSTART:20241027T010000
END:STANDARD
BEGIN:DAYLIGHT
TZOFFSETFROM:+0200
TZOFFSETTO:+0300
TZNAME:EEST
DTSTART:20250330T010000
END:DAYLIGHT
BEGIN:STANDARD
TZOFFSETFROM:+0300
TZOFFSETTO:+0200
TZNAME:EET
DTSTART:20251026T010000
END:STANDARD
BEGIN:DAYLIGHT
TZOFFSETFROM:+0200
TZOFFSETTO:+0300
TZNAME:EEST
DTSTART:20260329T010000
END:DAYLIGHT
BEGIN:STANDARD
TZOFFSETFROM:+0300
TZOFFSETTO:+0200
TZNAME:EET
DTSTART:20261025T010000
END:STANDARD
END:VTIMEZONE
BEGIN:VEVENT
DTSTART;TZID=Europe/Tallinn:20251121T110000
DTEND;TZID=Europe/Tallinn:20251123T160000
DTSTAMP:20260420T052922
CREATED:20251117T085339Z
LAST-MODIFIED:20251117T085339Z
UID:8584-1763722800-1763913600@hakkamesantima.ee
SUMMARY:Kadripäeva assamblaaž
DESCRIPTION:Kas sa oled kadripäevaks valmis? Ants Laikmaa muuseumis saad oma koju valmistada meeleoluka kadripäeva kunstiteose\, tule ainult kohale! Siin on materjalid ja juhendajad\, muuseumipoest saad soetada ka väärtusliku santimist tutvustava trükise “Hakkame santima!”\nKadripäeva assamblaaži saab valmistada reedest pühapäevani kell 11-16.
URL:https://hakkamesantima.ee/event/kadripaeva-assamblaaz/
LOCATION:Ants Laikmaa muuseum\, Muuseumi\, Kadarpiku\, Estonia
CATEGORIES:Lääne maakond
ATTACH;FMTTYPE=image/jpeg:https://hakkamesantima.ee/wp-content/uploads/2025/11/581947550_1925198561633880_4243997517534594623_n.jpg
ORGANIZER;CN="Ants Laikmaa muuseum":MAILTO:https://salm.ee/ants-laikmaa-muuseum/laikmaa@salm.ee
END:VEVENT
BEGIN:VEVENT
DTSTART;TZID=Europe/Tallinn:20251123T110000
DTEND;TZID=Europe/Tallinn:20251123T110000
DTSTAMP:20260420T052922
CREATED:20251112T094750Z
LAST-MODIFIED:20251112T094836Z
UID:8560-1763895600-1763895600@hakkamesantima.ee
SUMMARY:Kadripäeva lastehommik
DESCRIPTION:Olete oodatud Kadripäeva lastehommikule\, kus teid ootab palju toredaid tegevusi. Üheskoos meisterdame kadripäevaks maske. Nuputame\, mängime\, tantsime ja laulame lõbusaid kadripäeva laule. Lisaks saab väikese tasu eest lasta teha kauneid näomaalinguid ja maitsta kuldkollaseid pannkooke mõnusa koduse moosiga.Tule kogu perega ja veedame üheskoos vahva kadrihommiku! \nOotame teid 23.novembrilKell 11.00Kuimetsa RahvamajasÜritus on tasuta!
URL:https://hakkamesantima.ee/event/kadripaeva-lastehommik/
LOCATION:Kuimetsa rahvamaja\, Pargi tee 1\, Kuimetsa
CATEGORIES:Rapla maakond
ATTACH;FMTTYPE=image/jpeg:https://hakkamesantima.ee/wp-content/uploads/2025/11/580140445_1284078843762220_685429102534050537_n.jpg
ORGANIZER;CN="Kolme Kandi Rahvamaja":MAILTO:kolmekandi@raplakultuur.ee
END:VEVENT
BEGIN:VEVENT
DTSTART;TZID=Europe/Tallinn:20251123T110000
DTEND;TZID=Europe/Tallinn:20251123T140000
DTSTAMP:20260420T052922
CREATED:20251104T084416Z
LAST-MODIFIED:20251104T084416Z
UID:8362-1763895600-1763906400@hakkamesantima.ee
SUMMARY:Kadripäev Jesca mängumaal
DESCRIPTION:23.novembril toimub Jesca mängumaal kadripäeva trall!
URL:https://hakkamesantima.ee/event/kadripaev-jesca-mangumaal/
LOCATION:Jesca mängumaa\, Ilmatsalu tn 3f\, Tartu
CATEGORIES:Tartu,Tartu maakond
ATTACH;FMTTYPE=image/jpeg:https://hakkamesantima.ee/wp-content/uploads/2025/11/572761173_819152640862824_6156794019399987563_n.jpg
ORGANIZER;CN="Jesca m%C3%A4ngumaa":MAILTO:info@jesca.ee
END:VEVENT
BEGIN:VEVENT
DTSTART;TZID=Europe/Tallinn:20251123T110000
DTEND;TZID=Europe/Tallinn:20251123T110000
DTSTAMP:20260420T052922
CREATED:20251024T183042Z
LAST-MODIFIED:20251024T183042Z
UID:8251-1763895600-1763895600@hakkamesantima.ee
SUMMARY:Lasteteatri Rõõmulill etendus "MART LÄHEB KATRI JA KADRI LÄHEB MARTI"
DESCRIPTION:Külla tuleb lasteteater Rõõmulill!\n\nLugu räägib tüdruk Kadrist ja poiss Mardist. Ühel päeval kui neil väga igav ja nad leiavad eesti rahva traditsioonide raamatu. Hakkavad seda uurima ja avastavad\, et on olemas sellised tähtpäevad nagu mardipäev ja kadripäev…. Lapsed saavad etenduse käigus tutvuda mardi- ja kadripäeva kommetega. Etendus on lõbus\, õpetlik ja kuhu lapsed on kaasatud.\nPeale etendust meisterdame Mardi ja Kadri maske.\nPerepilet 7 €\, tasumine kohapeal sularahas.
URL:https://hakkamesantima.ee/event/lasteteatri-roomulill-etendus-mart-laheb-katri-ja-kadri-laheb-marti/
LOCATION:Pagari seltsimaja\, Pargi tee 2\, Pagari küla\, Alutaguse vald
CATEGORIES:Ida-Viru maakond
ATTACH;FMTTYPE=image/jpeg:https://hakkamesantima.ee/wp-content/uploads/2025/10/571249837_1614963252817500_155861012696852560_n.jpg
ORGANIZER;CN="Alutaguse huvikeskus":MAILTO:huvikeskus@alutagusevald.ee
END:VEVENT
BEGIN:VEVENT
DTSTART;TZID=Europe/Tallinn:20251123T120000
DTEND;TZID=Europe/Tallinn:20251123T140000
DTSTAMP:20260420T052922
CREATED:20251122T083656Z
LAST-MODIFIED:20251122T083656Z
UID:8594-1763899200-1763906400@hakkamesantima.ee
SUMMARY:Emade-tütarde klubi vol 3. Kadripäeva kombestik
DESCRIPTION:Teisipäeval 24. novembril tähistab eestlane kadripäeva. Seetõttu vaatame üle kadrisantide kombed – söögid\, joogid\, mängud\, tantsud\, laulud jne. Kohtume Vastemõisa rahvamaja keldrikorrusel asuvas puhketoas!
URL:https://hakkamesantima.ee/event/emade-tutarde-klubi-vol-3-kadripaeva-kombestik/
LOCATION:Vastemõisa rahvamaja\, Vaiassare tee 1\, Vastemõisa küla
CATEGORIES:Viljandi maakond
ATTACH;FMTTYPE=image/jpeg:https://hakkamesantima.ee/wp-content/uploads/2025/11/585522364_860232766643651_4762976263291520887_n.jpg
ORGANIZER;CN="Vastem%C3%B5isa Raamatukogu":MAILTO:rk.vastemoisa@suure-jaani.ee
END:VEVENT
BEGIN:VEVENT
DTSTART;TZID=Europe/Tallinn:20251123T120000
DTEND;TZID=Europe/Tallinn:20251123T150000
DTSTAMP:20260420T052922
CREATED:20251010T152959Z
LAST-MODIFIED:20251016T072349Z
UID:8201-1763899200-1763910000@hakkamesantima.ee
SUMMARY:Kadripäeva toidud
DESCRIPTION:23. novembril kell 12-15 pöörame Emajõe-Suursoo keskuses pilgud traditsioonilistele kadripäeva toitudele – teeme koos ühe suure kohmaka\, hulganisti kamapalle ja loomulikult ei puudu pliidilt ka ülimaitsev tangupuder. Töötuba sobib ka väiksematele tegelastele\, kes saavad oma kätega teha pisikesi pallikesi. Oma koht on pliidil askeldamise kõrval ka kadripäeva lauludel ja juttudel.\nToite õpetab valmistama Kavastu Maanaiste Selts \nOsalemine töötoas 5 eurot\, piletid fientast \nKaasa palume võtta vahetusjalanõud ja autod parkida keskuse ette parklasse. \nLisainfo: Maarja Ülper 5257 906. \nTöötuba korraldab Luunja Kultuuri- ja Vabaajakeskus
URL:https://hakkamesantima.ee/event/kadripaeva-toidud/
LOCATION:Emajõe-Suursoo keskus\, Kavastu küla\, Luunja alevik
CATEGORIES:Tartu maakond
ATTACH;FMTTYPE=image/jpeg:https://hakkamesantima.ee/wp-content/uploads/2025/10/Kadripaeva-toidud-24.11.25.jpg
ORGANIZER;CN="Luunja kultuuri- ja vabaajakeskus":MAILTO:Kultuurimaja@luunja.ee
END:VEVENT
BEGIN:VEVENT
DTSTART;TZID=Europe/Tallinn:20251123T140000
DTEND;TZID=Europe/Tallinn:20251123T160000
DTSTAMP:20260420T052922
CREATED:20251117T082525Z
LAST-MODIFIED:20251117T082525Z
UID:8573-1763906400-1763913600@hakkamesantima.ee
SUMMARY:Kadripäeva trall
DESCRIPTION:Ootame lapsi (ja muidugi suuremaid ka :)) 23. novembril kell 14.00-16.00 Kadripäeva trallile Pärnu Aianduse ja Mesinduse Seltsi II korruse saali\, Allika 2a.  Üritus tasuta!
URL:https://hakkamesantima.ee/event/kadripaeva-trall-2/
LOCATION:Pärnu Aianduse ja Mesinduse selts\, Allika tn 2a\, Pärnu
CATEGORIES:Pärnu maakond
ATTACH;FMTTYPE=image/jpeg:https://hakkamesantima.ee/wp-content/uploads/2025/11/581266567_1282213917272428_8984294009681609070_n.jpg
ORGANIZER;CN="P%C3%A4rnu Aianduse ja Mesinduse selts":MAILTO:aiandusmesindus@gmail.com
END:VEVENT
END:VCALENDAR