BEGIN:VCALENDAR
VERSION:2.0
PRODID:-//HAKKAME SANTIMA - ECPv6.15.20//NONSGML v1.0//EN
CALSCALE:GREGORIAN
METHOD:PUBLISH
X-WR-CALNAME:HAKKAME SANTIMA
X-ORIGINAL-URL:https://hakkamesantima.ee
X-WR-CALDESC:Events for HAKKAME SANTIMA
REFRESH-INTERVAL;VALUE=DURATION:PT1H
X-Robots-Tag:noindex
X-PUBLISHED-TTL:PT1H
BEGIN:VTIMEZONE
TZID:Europe/Tallinn
BEGIN:DAYLIGHT
TZOFFSETFROM:+0200
TZOFFSETTO:+0300
TZNAME:EEST
DTSTART:20240331T010000
END:DAYLIGHT
BEGIN:STANDARD
TZOFFSETFROM:+0300
TZOFFSETTO:+0200
TZNAME:EET
DTSTART:20241027T010000
END:STANDARD
BEGIN:DAYLIGHT
TZOFFSETFROM:+0200
TZOFFSETTO:+0300
TZNAME:EEST
DTSTART:20250330T010000
END:DAYLIGHT
BEGIN:STANDARD
TZOFFSETFROM:+0300
TZOFFSETTO:+0200
TZNAME:EET
DTSTART:20251026T010000
END:STANDARD
BEGIN:DAYLIGHT
TZOFFSETFROM:+0200
TZOFFSETTO:+0300
TZNAME:EEST
DTSTART:20260329T010000
END:DAYLIGHT
BEGIN:STANDARD
TZOFFSETFROM:+0300
TZOFFSETTO:+0200
TZNAME:EET
DTSTART:20261025T010000
END:STANDARD
END:VTIMEZONE
BEGIN:VEVENT
DTSTART;TZID=Europe/Tallinn:20251118T100000
DTEND;TZID=Europe/Tallinn:20251122T170000
DTSTAMP:20260420T033730
CREATED:20251112T100159Z
LAST-MODIFIED:20251112T100159Z
UID:8565-1763460000-1763830800@hakkamesantima.ee
SUMMARY:Santimise nädal Tillus = Mart + Kadri
DESCRIPTION:Kuigi mardipäev ja kadripäev on rahvakalendris kindlatel kuupäevadel\, teadis juba vanarahvas et santimine ei pea piirduma ühe õhtuga.Sante käis enne ja pärastki\, sest õnne\, nalja ja head sõna võis jagada rohkem\, kui ühel päeval.\nTillus võtame selle vaimu päriselt omaks: me sandime terve nädala\, et rõõm\, valgus ja vägi jõuaks kõigini\, kes meie uksest sisse astuvad.\n\nMe teeme seda\, et soovime tõsta ausse meie endi väga ägedat rahvakombestikku ja anda sellele tänapäevasem vunk ja tähendus.\nLoome nende päevade ümber toidud\, sümbolid ja hetked\, mis sobivad mardi- ja kadripäeva hingega\, aga kõnetavad tänast inimest.\nSest õige rahvatraditsioon on see\, mis ajas elab ja hingab – muutub koos inimeste\, maitsete ja ajaga.\n\n Mardisant – meeste tööde ja väe saadikMardisandid on rahvapärimuses meheliku jõu\, väe ja viljakuse kehastus. Nad kuulutavad sügise lõppu ja talve algust – aega\, mil põllutööd on tehtud ja algavad talvised meeste toimetused: küttimine\, tööriistade parandamine ja kodused meisterdamised.\nMardid liiguvad tumedas\, tahmases ja loomanahkadest rõivas – lärmakad\, naljatlevad ja vembumeelsed. Nad sümboliseerivad viljakust\, jõukust ja elurõõmu\, aga ka tänu ja jagamist.\nMardid väe ja vilja toojad\, kes käivad ringi\, et tuua pererahvale jõudu\, tervist ja head uut hooaega.\n\n Kadrisant – valguse\, karjaõnne ja naisetööde hoidjaKadrisandid on naiseliku väe\, puhtuse ja karjaõnne kandjad.Nende aeg tähistab valguse sündi ja hooliva kodu jõudu – perioodi\, mil algavad naistetööd: ketramine\, kudumine\, õmblemine\, toidutegemine ja kodune hool.Kadrid käivad valgetes rõivastes\, sageli küünal või linalapp kaasas\, ja soovivad pererahvale karjaõnne\, piimaõitsengut ja rahu.\nKadrisandid on valguse ja hoole saadikud\, kes hoiavad peret ja loomi\, ühendavad kodu ja hinge.\n\nKoos sünnibki Tillu Santimise nädal – hetk\, kus must ja valge\, tahmaninad ja küünlavalgus\, jõud ja hellus saavad kokku ühe laua taha.\n\nKohviku laual on verivorst ja leivavaht\, õunasiider ja mardiveri\, mardimauk ja kadri küpsised.\n\nTule maskis või kostümeeritult– me peame sandipassi ning kõik kaasa santijad lähevad kirja hakkamesantima.ee sandiloendusesse.\n\nLoome koos Tillu sügismaagia – koha\, kus on mõnusalt soe ning helge\, saab nalja ja jagatakse ühiseid hetki. Loome koos vanale kombele uue kuue\, et see elaks ja hingaks koos meie kõigiga uue ajastu rütmis.\n\nKuupäevad: 18.–22. novemberAsukoht: Tillu kohvik\, Põlva\, Jaama 52Täpsem info: 52 065 76
URL:https://hakkamesantima.ee/event/santimise-nadal-tillus-mart-kadri/
LOCATION:Tillu kohvik\, Jaama 52\, Põlva
CATEGORIES:Põlva maakond
ATTACH;FMTTYPE=image/jpeg:https://hakkamesantima.ee/wp-content/uploads/2025/11/580542731_1453699933424491_1330006399352078483_n.jpg
ORGANIZER;CN="Tillu kohvik":MAILTO:talupood@gmail.com
END:VEVENT
BEGIN:VEVENT
DTSTART;TZID=Europe/Tallinn:20251121T110000
DTEND;TZID=Europe/Tallinn:20251123T160000
DTSTAMP:20260420T033730
CREATED:20251117T085339Z
LAST-MODIFIED:20251117T085339Z
UID:8584-1763722800-1763913600@hakkamesantima.ee
SUMMARY:Kadripäeva assamblaaž
DESCRIPTION:Kas sa oled kadripäevaks valmis? Ants Laikmaa muuseumis saad oma koju valmistada meeleoluka kadripäeva kunstiteose\, tule ainult kohale! Siin on materjalid ja juhendajad\, muuseumipoest saad soetada ka väärtusliku santimist tutvustava trükise “Hakkame santima!”\nKadripäeva assamblaaži saab valmistada reedest pühapäevani kell 11-16.
URL:https://hakkamesantima.ee/event/kadripaeva-assamblaaz/
LOCATION:Ants Laikmaa muuseum\, Muuseumi\, Kadarpiku\, Estonia
CATEGORIES:Lääne maakond
ATTACH;FMTTYPE=image/jpeg:https://hakkamesantima.ee/wp-content/uploads/2025/11/581947550_1925198561633880_4243997517534594623_n.jpg
ORGANIZER;CN="Ants Laikmaa muuseum":MAILTO:https://salm.ee/ants-laikmaa-muuseum/laikmaa@salm.ee
END:VEVENT
BEGIN:VEVENT
DTSTART;TZID=Europe/Tallinn:20251122T140000
DTEND;TZID=Europe/Tallinn:20251122T160000
DTSTAMP:20260420T033730
CREATED:20251107T080933Z
LAST-MODIFIED:20251107T080933Z
UID:8502-1763820000-1763827200@hakkamesantima.ee
SUMMARY:Kadri- ja mardipäeva diskomöll
DESCRIPTION:Kadri-\, ja mardipäeva diskomöll!\n\n22. novembril ootame kõiki kadri-\, ja madrisante lõbusale üritusele mille eesmärk on tutvustada lastele traditsioonilisi Eesti kombeid ja teha muid lõbusaid tegevusi.\nEes on ootamas:Kommete tutvustamineÜhised mängudMõistatamineLaulud ja tantsud\nKuigi mardipäev on selleks ajaks möödunud\, siis keskendume rohkem eesootavale kadripäevale\, et kadrisandid oleksid valmis santima minema! Sellegipoolest pange selga enda parim mardi või kadri kostüüm ning kohtume 22. novembril!\n\nPeamine sihtgrupp: eelkool\, algklass ja põhikoolOsalus 5€/laps. Üritusel osaleva lapsevanema osaluspanus vabatahtlik\, kui on soov meie kooli toetada!\nRegistreerimine: https://forms.gle/p6omSYn5NWwJk2Bd6
URL:https://hakkamesantima.ee/event/kadri-ja-mardipaeva-diskomoll/
LOCATION:Hommiku 3\, Pärnu
CATEGORIES:Pärnu maakond
ATTACH;FMTTYPE=image/jpeg:https://hakkamesantima.ee/wp-content/uploads/2025/11/577732800_1255380756394458_5473519332218323151_n.jpg
ORGANIZER;CN="Janne Ristimetsa Tantsustuudio":MAILTO:info@jannetantsustuudio.ee
END:VEVENT
BEGIN:VEVENT
DTSTART;TZID=Europe/Tallinn:20251122T190000
DTEND;TZID=Europe/Tallinn:20251122T190000
DTSTAMP:20260420T033730
CREATED:20251117T083913Z
LAST-MODIFIED:20251117T083913Z
UID:8579-1763838000-1763838000@hakkamesantima.ee
SUMMARY:Kadritrall Kihnus
DESCRIPTION:Ootame kõiki rõõmsaid ja julgeid kadrisante\, kes soovivad kostümeeritult esineda – laulda\, tantsida\, nalja visata või muud põnevat näidata. Sina ja su sõbrad oletegi meie peo tähed!\n– Peaesinejateks on rahva enda kadrisandid – tule kostüümis ja oma etteastega.Parimad saavad auhinnatud!– Valime rahva lemmiku Kadriema\, Kadriisa ja Kadrilapse.– Lastele Kadri aaretejaht!– Tantsuks laulab-mängib ansambel VANAD SÕBRAD! – Kohapeal avatud meeleolu hoidmiseks MIINUSBAAR!– Lauad võib katta laupäeval 22.11 alates 17.00– Peojärgsed ühised korrastustööd algavad pühapäeval 23.11 kell 10.00– Laudadade broneerimine: ilona.kandelin@kihnu.ee (kirjuta kindlasti\, mitu kohta soovid!) või 55 663 687\n\nPILETID:Kostüüm + etteaste – 2 €Kostüümiga – 5 €Tavapilet – 8 €Lapsed alla 7 a. – tasuta\nIlusat kadriootust ning toredat pidu meile!
URL:https://hakkamesantima.ee/event/kadritrall-kihnus/
LOCATION:Kihnu rahvamaja
CATEGORIES:Pärnu maakond
ATTACH;FMTTYPE=image/jpeg:https://hakkamesantima.ee/wp-content/uploads/2025/11/575130745_1338231101672633_8431724274535487068_n.jpg
ORGANIZER;CN="Kihnu rahvamaja":MAILTO:ilona.kandelin@kihnu.ee
END:VEVENT
END:VCALENDAR